BEGIN:VCALENDAR
VERSION:2.0
PRODID:-//Squarespace Inc/Squarespace 6//v6//EN
BEGIN:VEVENT
UID:58f6ebda15d5dbcc64f03a17@squarespace.com
DTSTAMP:20170617T051546Z
DTSTART:20170622T123000Z
DTEND:20170804T153000Z
SUMMARY:Influencing Stakeholders for People and Culture Professionals *
GEO:-34.928593;138.607993
LOCATION:Samantha Wilkinson HR Consulting\, 193 Wakefield Street\, Adelaide
 \, SA\, 5000\, Australia
END:VEVENT
END:VCALENDAR
